BEGIN:VCALENDAR
VERSION:2.0
PRODID:-//ESVS - ECPv6.11.2//NONSGML v1.0//EN
CALSCALE:GREGORIAN
METHOD:PUBLISH
X-WR-CALNAME:ESVS
X-ORIGINAL-URL:https://esvs-staging.kwantic.dev
X-WR-CALDESC:Events for ESVS
REFRESH-INTERVAL;VALUE=DURATION:PT1H
X-Robots-Tag:noindex
X-PUBLISHED-TTL:PT1H
BEGIN:VTIMEZONE
TZID:Europe/Paris
BEGIN:DAYLIGHT
TZOFFSETFROM:+0100
TZOFFSETTO:+0200
TZNAME:CEST
DTSTART:20220327T010000
END:DAYLIGHT
BEGIN:STANDARD
TZOFFSETFROM:+0200
TZOFFSETTO:+0100
TZNAME:CET
DTSTART:20221030T010000
END:STANDARD
END:VTIMEZONE
BEGIN:VEVENT
DTSTART;VALUE=DATE:20220612
DTEND;VALUE=DATE:20220615
DTSTAMP:20260420T132054
CREATED:20211213T111217Z
LAST-MODIFIED:20211222T100717Z
UID:245704-1654992000-1655251199@esvs-staging.kwantic.dev
SUMMARY:EVC - 25th European Vascular Course
DESCRIPTION:Following the fantastic digital LIVE hands-on workshop experience earlier this year\, EVC are now heading for their 25th conventional EVC training event. \nHowever\, the COVID-19 pandemic is still very active\, causing an excessive burden on the society and in particular the medical health systems. It is to be expected that the situation will last for a couple of months and that restrictions will dictate our daily activities.  EVC-ECC has therefore been moved to June 12-14\, 2022. \nThe scientific programme will consist of invited lectures on arterial\, venous\, vascular access and cardiovascular topics. The practical programme will contain more than 250 workshops on surgical anatomy\, diagnostics\, medical management\, decision-making\, simulation\, team training\, open and endovascular techniques and scientific writing. \nLike previous years\, the UEMS Section and Board of Vascular Surgery organises the European Examinations for vascular surgery at EVC\, one day before the start of the meeting (Saturday\, June 11\, 2022). Candidates can register at www.uemsvascular.com. \nEVC are thrilled to welcome you to Maastricht and offer a magnificent training event. They are looking forward to celebrate the 25th EVC and 5th ECC anniversaries with you and many participants from all over the world!
URL:https://esvs-staging.kwantic.dev/event/evc_2022/
CATEGORIES:Events outside the society Calendar
ATTACH;FMTTYPE=image/jpeg:https://esvs-staging.kwantic.dev/wp-content/uploads/2021/12/New-logo.jpg
END:VEVENT
BEGIN:VEVENT
DTSTART;VALUE=DATE:20220612
DTEND;VALUE=DATE:20220615
DTSTAMP:20260420T132054
CREATED:20220209T152117Z
LAST-MODIFIED:20220209T154051Z
UID:250711-1654992000-1655251199@esvs-staging.kwantic.dev
SUMMARY:Vascular Bootcamp
DESCRIPTION:The objective of this 3-day Bootcamp is to focus on the practice of peripheral and aortic endovascular procedures as a beneficial tool for improving surgical practice on devices from manufacturers. For more information\, contact Dr. Nicole NEUMANN: education@geprovas.org \nFlyer_Annonce_Bootcamp_Participant
URL:https://esvs-staging.kwantic.dev/event/vascular-bootcamp/
CATEGORIES:Events outside the society Calendar
END:VEVENT
BEGIN:VEVENT
DTSTART;VALUE=DATE:20220615
DTEND;VALUE=DATE:20220619
DTSTAMP:20260420T132054
CREATED:20220609T111038Z
LAST-MODIFIED:20220609T123823Z
UID:267526-1655251200-1655596799@esvs-staging.kwantic.dev
SUMMARY:SVS - Vascular Annual Meeting
DESCRIPTION:The VAM 2022  program will be jam-packed with educational content and networking opportunities so you can maximize every minute of your time while on-site in Boston. \nCan’t make it to the in-person meeting this year? Part of this year’s program will be streamed for those who can’t possibly make it to Boston. The SVS is delivering top-tier education at convenient times for all international attendees during VAM 2022. All session recordings will be available to in-person and virtual attendees for three years following VAM22\, however only the live sessions will be available for CME claiming. \n 
URL:https://esvs-staging.kwantic.dev/event/vascular-annual-meeting/
LOCATION:Boston\, Boston\, United States
CATEGORIES:Events outside the society Calendar
ATTACH;FMTTYPE=image/png:https://esvs-staging.kwantic.dev/wp-content/uploads/2022/06/SVS2022_TextOnlyBlack-e1654773302422.png
END:VEVENT
BEGIN:VEVENT
DTSTART;VALUE=DATE:20220628
DTEND;VALUE=DATE:20220630
DTSTAMP:20260420T132054
CREATED:20220511T094224Z
LAST-MODIFIED:20220511T094224Z
UID:266719-1656374400-1656547199@esvs-staging.kwantic.dev
SUMMARY:Cadaveric Vascular Access Course
DESCRIPTION:The Vascular Society for Great Britain and Ireland invite you to their upcoming cadaveric course. This is a two-day practical & comprehensive hands on course directed towards vascular and transplant trainees and recently appointed consultants with special interest in access surgery \nFor more information see here \nRegister now
URL:https://esvs-staging.kwantic.dev/event/cadaveric-vascular-access-course/
LOCATION:West Midlands Surgical Training Centre\, UHCW NHS Trust\, Coventry\, CV2 2DX\, United Kingdom
CATEGORIES:Events outside the society Calendar
END:VEVENT
BEGIN:VEVENT
DTSTART;VALUE=DATE:20220630
DTEND;VALUE=DATE:20220703
DTSTAMP:20260420T132054
CREATED:20220609T122942Z
LAST-MODIFIED:20220609T123702Z
UID:267532-1656547200-1656806399@esvs-staging.kwantic.dev
SUMMARY:European Venous Forum (EVF)
DESCRIPTION:EVF looks forward to seeing you in Venice and joining them at the 22nd annual meeting of the EVF. This is a hybrid event so you will be able to join either in person or virtually. \nThroughout this event\, there will be 30 oral abstract presentations over 5 abstract sessions and 40 ePoster presentations held throughout the 3 days. In addition to the abstract sessions there are 4 didactic sessions covering areas on the management and treatment of acute DVT\, and chronic venous insufficiency. There will also be video sessions\, Meet the Expert Sessions and Industry sessions. All sessions include time dedicated to discussion which represents the soul of the Congress. \nThe Keynote lecture not to be missed is given by Professor Ismail Elalamy “Covid-19 and thrombosis: Basis and management of an incendiary duality”. \n\nAll presentations and Q&A will be live.\nAll delegates will have access to all presentations for up to six months after the meeting.\nAll delegates will receive CME credits (1 CME per hour of attendance) for presentations heard during the conference and for three months after the meeting.\n\n 
URL:https://esvs-staging.kwantic.dev/event/european-venous-forum-evf/
LOCATION:NH Venezia Laguna Palace Hotel\, Venice\, Italy
CATEGORIES:Events outside the society Calendar
ATTACH;FMTTYPE=image/jpeg:https://esvs-staging.kwantic.dev/wp-content/uploads/2022/06/EVF-Logo.jpg
END:VEVENT
END:VCALENDAR