BEGIN:VCALENDAR
VERSION:2.0
PRODID:-//ESVS - ECPv6.11.2//NONSGML v1.0//EN
CALSCALE:GREGORIAN
METHOD:PUBLISH
X-WR-CALNAME:ESVS
X-ORIGINAL-URL:https://esvs-staging.kwantic.dev
X-WR-CALDESC:Events for ESVS
REFRESH-INTERVAL;VALUE=DURATION:PT1H
X-Robots-Tag:noindex
X-PUBLISHED-TTL:PT1H
BEGIN:VTIMEZONE
TZID:Europe/Paris
BEGIN:DAYLIGHT
TZOFFSETFROM:+0100
TZOFFSETTO:+0200
TZNAME:CEST
DTSTART:20220327T010000
END:DAYLIGHT
BEGIN:STANDARD
TZOFFSETFROM:+0200
TZOFFSETTO:+0100
TZNAME:CET
DTSTART:20221030T010000
END:STANDARD
END:VTIMEZONE
BEGIN:VEVENT
DTSTART;VALUE=DATE:20221117
DTEND;VALUE=DATE:20221121
DTSTAMP:20260420T002837
CREATED:20220818T151729Z
LAST-MODIFIED:20221011T130159Z
UID:269907-1668643200-1668988799@esvs-staging.kwantic.dev
SUMMARY:Turkish National Society Meeting
DESCRIPTION:In addition to organizing various training programs and events throughout the year\, the Turkish Society of Cardiovascular Surgery plans to hold their Congress in November. \nThe Society is planning to present rich content: one of the leading scientific congresses at national and international level with both the number of participants and high quality scientific content\, with a wide range of satisfying scientific programs that will appeal to all participants. \n10 accommodation and registration grants are very kindly offered to 10 EVST (ESVS trainee) members. Email amandine@esvs.org if you are interested! \nFor more information\, please visit: https://www.tkdcd2022.org/tr
URL:https://esvs-staging.kwantic.dev/event/turkish-national-society-meeting/
LOCATION:Titanic Deluxe Hotel Antalya\, Antalya\, Turkey
CATEGORIES:Events outside the society Calendar
ATTACH;FMTTYPE=image/png:https://esvs-staging.kwantic.dev/wp-content/uploads/2022/08/Turkey-logo.png
END:VEVENT
BEGIN:VEVENT
DTSTART;VALUE=DATE:20221123
DTEND;VALUE=DATE:20221126
DTSTAMP:20260420T002837
CREATED:20220819T144402Z
LAST-MODIFIED:20221108T083127Z
UID:269919-1669161600-1669420799@esvs-staging.kwantic.dev
SUMMARY:Paris Vascular Insights
DESCRIPTION:PARIS VASCULAR INSIGHTS is a new concept\, in the continuity of the Controversies and Updates in Vascular Surgery Congress (CACVS) and its merger with iVAS and iMEET congresses\, addressing all aspects of vascular disease.⁠ \nThe second edition will be held from November 23-25th\, 2022 and 20 free EVST registrations are available. PVI – PARIS VASCULAR INSIGHTS \nFor more information\, please register your interest here and PVI will get back to you with more details: Free registration to PVI 2022
URL:https://esvs-staging.kwantic.dev/event/paris-vascular-insights/
LOCATION:Palais Brongniart\, Paris\, France
CATEGORIES:Events outside the society Calendar
ATTACH;FMTTYPE=image/png:https://esvs-staging.kwantic.dev/wp-content/uploads/2022/08/logo.png
END:VEVENT
BEGIN:VEVENT
DTSTART;TZID=Europe/Paris:20221123T080000
DTEND;TZID=Europe/Paris:20221125T170000
DTSTAMP:20260420T002837
CREATED:20221021T194558Z
LAST-MODIFIED:20221021T194644Z
UID:272687-1669190400-1669395600@esvs-staging.kwantic.dev
SUMMARY:The Vascular Societies' Annual Scientific Meeting
DESCRIPTION:The conference is a three day programme which showcases a wealth of topics for everyone across the spectrum of the vascular field. \nThe conference is a great opportunity to meet and network with the Vascular community who share enthusiasm for the best practice and care of patients including consultants\, vascular scientist\, nurses and physiotherapists. \n  \nFurther information\, including how to register can be found here – https://www.vascularsociety.org.uk/asm/vsasm_2022.aspx
URL:https://esvs-staging.kwantic.dev/event/the-vascular-societies-annual-scientific-meeting/
CATEGORIES:Events outside the society Calendar
END:VEVENT
END:VCALENDAR