BEGIN:VCALENDAR
VERSION:2.0
PRODID:-//ESVS - ECPv6.11.2//NONSGML v1.0//EN
CALSCALE:GREGORIAN
METHOD:PUBLISH
X-ORIGINAL-URL:https://esvs-staging.kwantic.dev
X-WR-CALDESC:Events for ESVS
REFRESH-INTERVAL;VALUE=DURATION:PT1H
X-Robots-Tag:noindex
X-PUBLISHED-TTL:PT1H
BEGIN:VTIMEZONE
TZID:Europe/Paris
BEGIN:DAYLIGHT
TZOFFSETFROM:+0100
TZOFFSETTO:+0200
TZNAME:CEST
DTSTART:20230326T010000
END:DAYLIGHT
BEGIN:STANDARD
TZOFFSETFROM:+0200
TZOFFSETTO:+0100
TZNAME:CET
DTSTART:20231029T010000
END:STANDARD
END:VTIMEZONE
BEGIN:VEVENT
DTSTART;VALUE=DATE:20230113
DTEND;VALUE=DATE:20230114
DTSTAMP:20260419T193518
CREATED:20221117T111448Z
LAST-MODIFIED:20221117T112419Z
UID:273187-1673568000-1673654399@esvs-staging.kwantic.dev
SUMMARY:COCH Vascular Anastomosis Course
DESCRIPTION:The COCH Vascular Anastomosis Course is taking place this January 2023! Please contact Dimitrios Vlastos <dimitrisbvr@hotmail.com>  for any further information regarding this programme. \nPlease find below some information summarising the course schedule and content: \nCourse schedule\n•08:30 Registration\n•09:00 Introduction (course content; basic technical principles)\n•09:30 Arteriotomy closure\n•10:30 Patch closure\n•12:00 Lunch\n•12:45 End-to-side anastomosis (parachute; anastomotic simulator)\n•13:45 Refreshment break\n•14:00 End-to-end anastomosis (porcine AAA repair)\n•15:00 Conclusion and feedback \nDelegates\n•12 delegates\n•Practice in pairs (primary operator\, assistant)\n•Level of training: F2-CT2/ST2\n•£120 attendance fee (towards course expenses) \nFaculty\n•3 Consultants\n•3 Specialty Registrars\n•Will demonstrate technique at the beginning of each exercise and supervise delegates\n•May need to assist/ split pairs upon significant dexterity discordance \nVenue\n•COCH education and training centre
URL:https://esvs-staging.kwantic.dev/event/coch-vascular-anastomosis-course/
LOCATION:COCH education and training centre
CATEGORIES:Events outside the society Calendar
END:VEVENT
BEGIN:VEVENT
DTSTART;VALUE=DATE:20230120
DTEND;VALUE=DATE:20230121
DTSTAMP:20260419T193518
CREATED:20221212T114617Z
LAST-MODIFIED:20221213T082500Z
UID:273782-1674172800-1674259199@esvs-staging.kwantic.dev
SUMMARY:Call for registrations - MSc course in Endovascular Techniques
DESCRIPTION:Call for registrations \nApplications deadline on 20th of January 2023\nThe course starts on February 2023 and will run for 18 months.\nIt includes two (2) academic semesters of compulsory attendance of online classes and one (1) semester for compiling a dissertation to conclude the MSc. \nCourse features \nInternational distinguished faculty.\nSupervised Thesis by recognized tutors.\nOn site workshops for arterial and endovenous interventions.\nLectures in Endovascular\nTechniques in English.\nLogbook of clinical experience in Endo Techniques at home institution. \nFor further information\, click here. \nTake a look at the flyer!
URL:https://esvs-staging.kwantic.dev/event/msc-course-in-endovascular-techniques/
LOCATION:The School of Medicine and Surgery (Dipartmento di Medicina e Chirurgia)\, University of Milano-Bicocca\, Monza\, Italy
CATEGORIES:Events outside the society Calendar
END:VEVENT
END:VCALENDAR