BEGIN:VCALENDAR
VERSION:2.0
PRODID:-//ESVS - ECPv6.11.2//NONSGML v1.0//EN
CALSCALE:GREGORIAN
METHOD:PUBLISH
X-WR-CALNAME:ESVS
X-ORIGINAL-URL:https://esvs-staging.kwantic.dev
X-WR-CALDESC:Events for ESVS
REFRESH-INTERVAL;VALUE=DURATION:PT1H
X-Robots-Tag:noindex
X-PUBLISHED-TTL:PT1H
BEGIN:VTIMEZONE
TZID:Europe/Paris
BEGIN:DAYLIGHT
TZOFFSETFROM:+0100
TZOFFSETTO:+0200
TZNAME:CEST
DTSTART:20230326T010000
END:DAYLIGHT
BEGIN:STANDARD
TZOFFSETFROM:+0200
TZOFFSETTO:+0100
TZNAME:CET
DTSTART:20231029T010000
END:STANDARD
END:VTIMEZONE
BEGIN:VEVENT
DTSTART;VALUE=DATE:20230419
DTEND;VALUE=DATE:20230423
DTSTAMP:20260419T145148
CREATED:20230309T170015Z
LAST-MODIFIED:20230320T162222Z
UID:281220-1681862400-1682207999@esvs-staging.kwantic.dev
SUMMARY:ESVB - European Symposium on Vascular Biomaterials 2023
DESCRIPTION:19th – 22nd of April | Strasbourg \nThis edition will focus on discussions around the latest technological trends that will influence our practices today and tomorrow! \nVenue: Palais de la Musique et des Congrès\, Strasbourg \nFull programme is available on the GEPROMED website. \nRegistrations are now open!\nESVB has also generously offered free registrations to the first 20 EVST members to sign-up! Please fill out this survey to find out how to benefit from it.
URL:https://esvs-staging.kwantic.dev/event/esvb-european-symposium-on-vascular-biomaterials-2023/
LOCATION:Palais de la musique et des congrès\, Place de Bordeaux\, Strasbourg\, 67000\, France
CATEGORIES:Events outside the society Calendar
ATTACH;FMTTYPE=image/png:https://esvs-staging.kwantic.dev/wp-content/uploads/2023/03/ESVB-banner.png
END:VEVENT
BEGIN:VEVENT
DTSTART;VALUE=DATE:20230423
DTEND;VALUE=DATE:20230425
DTSTAMP:20260419T145148
CREATED:20230215T101038Z
LAST-MODIFIED:20230215T101038Z
UID:279026-1682208000-1682380799@esvs-staging.kwantic.dev
SUMMARY:Find Your Algorithm Vascular 2023
DESCRIPTION:TAKING VASCULAR INTERVENTION TO ANOTHER LEVEL\n23rd April – 24th of April | London\nFor two days\, Find Your Algorithm will focus on lower limb arterial recanalisation and will offer plenary sessions from over 50 faculty members from all over the world and dedicated time for hands-on education sessions. \nDiscover the full programme\nVenue: Ibis\, London Earls Court Hotel and ILEC conference centre\, 47 Lillie Road\, London\, SW6 1UD \nVisit www.fyavascular.com \nFind Your Algorithm has offered our EVST members (European Vascular Surgeons in Training) free registrations and 20 travel/accommodation grants. \nTo benefit from this generous offer\, make sure to use the code “EVST member” when registering.
URL:https://esvs-staging.kwantic.dev/event/find-your-algorithm-vascular-2023/
CATEGORIES:Events outside the society Calendar
ATTACH;FMTTYPE=image/jpeg:https://esvs-staging.kwantic.dev/wp-content/uploads/2023/02/FYA-2023-Bandeau-900x150-1.jpg
END:VEVENT
BEGIN:VEVENT
DTSTART;VALUE=DATE:20230425
DTEND;VALUE=DATE:20230428
DTSTAMP:20260419T145148
CREATED:20230320T161946Z
LAST-MODIFIED:20230320T161946Z
UID:282065-1682380800-1682639999@esvs-staging.kwantic.dev
SUMMARY:45th Charing Cross Symposium
DESCRIPTION:25 – 27 April 2023 | London \nCharing Cross (CX) is the leading vascular and endovascular education symposium. This year marks Charing Cross’ 45th year providing world-class education\, innovation and evidence to our global audience. To cater to our friends and peers around the world\, CX 2023 is once again available both virtually and in-person. \nCheck out the programme\nVenue: Hilton London Metropole\, 225 Edgware Road\, London W21JU \nVisit: https://www.cxsymposium.com/
URL:https://esvs-staging.kwantic.dev/event/cx-symposium/
LOCATION:Hilton London Metropole\, 225 Edgware Road\, London\, W21JU\, United Kingdom
CATEGORIES:Events outside the society Calendar
ATTACH;FMTTYPE=image/png:https://esvs-staging.kwantic.dev/wp-content/uploads/2023/03/CX-2023-Flyer.png
END:VEVENT
BEGIN:VEVENT
DTSTART;VALUE=DATE:20230427
DTEND;VALUE=DATE:20230430
DTSTAMP:20260419T145148
CREATED:20230310T163702Z
LAST-MODIFIED:20230320T162337Z
UID:281742-1682553600-1682812799@esvs-staging.kwantic.dev
SUMMARY:13th Congress of the Vascular Society
DESCRIPTION:27th – 29th of April | Porto \nVAS welcomes you in the beautiful city of Porto for a three-day meeting. \nDuring the meeting\, you’ll find a scientific programme to fit the expectation of the vascular access international community\, focused on the latest updates and main topics of our area. You can already find the programme here. \nVenue: Congress Centre\, Alfandega Do Porto \nRegistrations are now open!\nVisit vas2023.com
URL:https://esvs-staging.kwantic.dev/event/13th-congress-of-the-vascular-society/
LOCATION:Congress Centre Alfandega Do Porto\, Rua Nova Da Alfândega\, Edifício Da Alfândega\, Porto\, 4050-430\, Portugal
CATEGORIES:Events outside the society Calendar
ATTACH;FMTTYPE=image/png:https://esvs-staging.kwantic.dev/wp-content/uploads/2023/03/VAS-Web-Advert_0.png
END:VEVENT
END:VCALENDAR