BEGIN:VCALENDAR
VERSION:2.0
PRODID:-//ESVS - ECPv6.11.2//NONSGML v1.0//EN
CALSCALE:GREGORIAN
METHOD:PUBLISH
X-WR-CALNAME:ESVS
X-ORIGINAL-URL:https://esvs-staging.kwantic.dev
X-WR-CALDESC:Events for ESVS
REFRESH-INTERVAL;VALUE=DURATION:PT1H
X-Robots-Tag:noindex
X-PUBLISHED-TTL:PT1H
BEGIN:VTIMEZONE
TZID:Europe/Paris
BEGIN:DAYLIGHT
TZOFFSETFROM:+0100
TZOFFSETTO:+0200
TZNAME:CEST
DTSTART:20230326T010000
END:DAYLIGHT
BEGIN:STANDARD
TZOFFSETFROM:+0200
TZOFFSETTO:+0100
TZNAME:CET
DTSTART:20231029T010000
END:STANDARD
BEGIN:DAYLIGHT
TZOFFSETFROM:+0100
TZOFFSETTO:+0200
TZNAME:CEST
DTSTART:20240331T010000
END:DAYLIGHT
BEGIN:STANDARD
TZOFFSETFROM:+0200
TZOFFSETTO:+0100
TZNAME:CET
DTSTART:20241027T010000
END:STANDARD
END:VTIMEZONE
BEGIN:VEVENT
DTSTART;TZID=Europe/Paris:20231026T160000
DTEND;TZID=Europe/Paris:20231026T173000
DTSTAMP:20260420T065051
CREATED:20230626T134345Z
LAST-MODIFIED:20231013T090910Z
UID:286361-1698336000-1698341400@esvs-staging.kwantic.dev
SUMMARY:EWMA & ESVS Joint Webinar: Lower leg ulcer diagnostics and treatment
DESCRIPTION:EWMA & ESVS Joint Webinar: Lower leg ulcer diagnostics and treatment\n\nCME Accredited | 26 October @ 16:00 – 17:30\nChaired by Kirsi Isoherranen & Melina Vega de Ceniga \nVascular Assessment – Maarit Venermo\nWound Infection & Wound Healing – Ewa Stürmer\nCompression Therapy – Kirsi Isoherranen\nAtypical Wounds – Paulo Ramos \n\nTime for discussion will be allocated after every presentation. \nThis webinar is CME accredited and participants will be able to claim 1.5 points. \nRegister to the free webinar here.
URL:https://esvs-staging.kwantic.dev/event/lower-leg-ulcer-diagnostics-and-treatment/
CATEGORIES:Education Calendar,ESVS Events Calendar,Webinars
ATTACH;FMTTYPE=image/png:https://esvs-staging.kwantic.dev/wp-content/uploads/2021/06/WEBINARS-e1719571968165.png
END:VEVENT
BEGIN:VEVENT
DTSTART;TZID=Europe/Paris:20231128T190000
DTEND;TZID=Europe/Paris:20231128T203000
DTSTAMP:20260420T065051
CREATED:20230919T132618Z
LAST-MODIFIED:20231124T091142Z
UID:288585-1701198000-1701203400@esvs-staging.kwantic.dev
SUMMARY:ESVS Webinar: 2023 Clinical Practice Guidelines on Radiation Safety
DESCRIPTION:Join our free webinar on 2023 Clinical Practice Guidelines on Radiation Safety.  Register here: https://streamedup-events.com/esvs-webinar-28112023 \nCheck out the programme: \nChairs: Stephan Haulon\, Bijan Modarai \n\n\n\n\nTitle\n\n\nSpeaker\n\n\n\nIntroduction\nBijan Modarai\, Stephan Haulon\n\n\nGeneral Introduction of guidelines\nSalome Weiss\n\n\nDiscussion\n\n\n\nReducing radiation exposure of deep venous procedures with IVUS\nMatti Laine\n\n\nDiscussion\n\n\n\nFully ultrasound-assisted EVAR\nGiulio Illuminati\n\n\nDiscussion\n\n\n\nRadiation exposure in fenestrated endovascular aortic repair: a procedure step analysis\nPetroula Nana\n\n\nDiscussion\n\n\n\nFORS in everyday practice\nTilo Kolbel\n\n\nDiscussion\n\n\n\nExperience with electromagnetic guidance\nGustavo Oderich\n\n\nDiscussion\n\n\n\nWrap-up\nBijan Modarai\, Stephan Haulon
URL:https://esvs-staging.kwantic.dev/event/esvs-webinar-2023-clinical-practice-guidelines-on-radiation-safety/
CATEGORIES:ESVS Events Calendar,Webinars
ATTACH;FMTTYPE=image/png:https://esvs-staging.kwantic.dev/wp-content/uploads/2023/09/Untitled-design-5.png
END:VEVENT
BEGIN:VEVENT
DTSTART;TZID=Europe/Paris:20241024T160000
DTEND;TZID=Europe/Paris:20241024T173000
DTSTAMP:20260420T065051
CREATED:20240617T101607Z
LAST-MODIFIED:20240617T101607Z
UID:306528-1729785600-1729791000@esvs-staging.kwantic.dev
SUMMARY:EWMA & ESVS Joint Webinar: Venous leg ulcers with coexisting PAD
DESCRIPTION:EWMA & ESVS Joint Webinar: Venous leg ulcers with coexisting PAD\nCME Accredited | 24 October @ 16:00 – 17:30\nChaired by Kirsi Isoherranen & Armando Mansilha \n\nDermatologist perspective on the topic – Joachim Dissemond\nVascular perspective on the topic – Armando Mansilha\nCase n°1 – Paulo Ramos\nCase n°2 – Katariina Noronen\nCase n°3 – Kirsi Isoherranen\n\nTime for discussion will be allocated after every presentation. \nCME accreditation has been applied for. \nRegister to the free webinar here.
URL:https://esvs-staging.kwantic.dev/event/ewma-esvs-joint-webinar-venous-leg-ulcers-with-coexisting-pad/
CATEGORIES:Education Calendar,ESVS Events Calendar,Webinars
ATTACH;FMTTYPE=image/png:https://esvs-staging.kwantic.dev/wp-content/uploads/2021/06/WEBINARS-e1719571968165.png
END:VEVENT
END:VCALENDAR