BEGIN:VCALENDAR
VERSION:2.0
PRODID:-//ESVS - ECPv6.11.2//NONSGML v1.0//EN
CALSCALE:GREGORIAN
METHOD:PUBLISH
X-WR-CALNAME:ESVS
X-ORIGINAL-URL:https://esvs-staging.kwantic.dev
X-WR-CALDESC:Events for ESVS
REFRESH-INTERVAL;VALUE=DURATION:PT1H
X-Robots-Tag:noindex
X-PUBLISHED-TTL:PT1H
BEGIN:VTIMEZONE
TZID:Europe/Paris
BEGIN:DAYLIGHT
TZOFFSETFROM:+0100
TZOFFSETTO:+0200
TZNAME:CEST
DTSTART:20220327T010000
END:DAYLIGHT
BEGIN:STANDARD
TZOFFSETFROM:+0200
TZOFFSETTO:+0100
TZNAME:CET
DTSTART:20221030T010000
END:STANDARD
END:VTIMEZONE
BEGIN:VEVENT
DTSTART;TZID=Europe/Paris:20221213T190000
DTEND;TZID=Europe/Paris:20221213T203000
DTSTAMP:20260420T080633
CREATED:20220912T082540Z
LAST-MODIFIED:20221207T181031Z
UID:271419-1670958000-1670963400@esvs-staging.kwantic.dev
SUMMARY:Webinar: Understand the scope of Vascular Access for Dialysis and role of endoAVF
DESCRIPTION:  \n \nJoin us for this webinar to discuss and understand the scope of Vascular Access for Dialysis and role of endoAVF with our experts \n \nRegistration fee  \nOur webinars are all FREE for everyone. If you cannot watch live\, the recording will be accessible here: https://esvs-staging.kwantic.dev/events/educational-webinars/ \nEACCME accreditation is being requested for this session. \n  \n 
URL:https://esvs-staging.kwantic.dev/event/understand-the-scope-of-vascular-access-for-dialysis-and-role-of-endoavf/
LOCATION:online
CATEGORIES:ESVS Events Calendar,Webinars
ORGANIZER;CN="ESVS":MAILTO:info@esvs.org
END:VEVENT
END:VCALENDAR